BEGIN:VCALENDAR
VERSION:2.0
PRODID:-//wp-events-plugin.com//7.2.3.1//EN
TZID:America/Los_Angeles
X-WR-TIMEZONE:America/Los_Angeles
BEGIN:VEVENT
UID:50@malibugardenclub.org
DTSTART;TZID=America/Los_Angeles:20151104T190000
DTEND;TZID=America/Los_Angeles:20151104T210000
DTSTAMP:20190623T174817Z
URL:https://www.malibugardenclub.org/events/winter-vegetable-gardening/
SUMMARY:Winter Vegetable Gardening
DESCRIPTION:For our November event\, Christy Wilhelmi presented "Winter Veg
 etable Gardening." Christy believes that gardening unifies both physical a
 ctivity and healthy food choices while providing a grounding spiritual and
  creative outlet.
ATTACH;FMTTYPE=image/jpeg:https://www.malibugardenclub.org/wp-content/uplo
 ads/Christy-Wilhelmi.jpg
CATEGORIES:Malibu Garden Club
LOCATION:Point Dume Club House\, 29500 Heathercliff Drive\, Malibu\, Califo
 rnia\, 90265\, United States
X-APPLE-STRUCTURED-LOCATION;VALUE=URI;X-ADDRESS=29500 Heathercliff Drive\, 
 Malibu\, California\, 90265\, United States;X-APPLE-RADIUS=100;X-TITLE=Poi
 nt Dume Club House:geo:0,0
END:VEVENT
BEGIN:VTIMEZONE
TZID:America/Los_Angeles
X-LIC-LOCATION:America/Los_Angeles
BEGIN:STANDARD
DTSTART:20151101T010000
TZOFFSETFROM:-0700
TZOFFSETTO:-0800
TZNAME:PST
END:STANDARD
END:VTIMEZONE
END:VCALENDAR