BEGIN:VCALENDAR
VERSION:2.0
PRODID:-//wp-events-plugin.com//7.2.3.1//EN
TZID:America/Los_Angeles
X-WR-TIMEZONE:America/Los_Angeles
BEGIN:VEVENT
UID:151@malibugardenclub.org
DTSTART;TZID=America/Los_Angeles:20191204T133000
DTEND;TZID=America/Los_Angeles:20191204T150000
DTSTAMP:20190620T192344Z
URL:https://www.malibugardenclub.org/events/winter-holiday-plants-no-matte
 r-what-you-celebrate-theres-a-plant-for-that/
SUMMARY:Winter Holiday Plants – No Matter What You Celebrate\, There’s 
 a Plant for That!
DESCRIPTION:Every first Wednesday of the month at 1:30 pm Arboretum Plant I
 nformation Consultant Frank McDonough covers current horticultural topics 
 including landscaping\, gardening\, design\, water-saving strategies and o
 ther pertinent topics.
ATTACH;FMTTYPE=image/jpeg:https://www.malibugardenclub.org/wp-content/uplo
 ads/autumn-leaves.jpg
CATEGORIES:Local Events
LOCATION:Los Angeles County Arboretum and Botanic Garden\, 301 North Baldwi
 n Ave\, Arcadia\, CA\, 91007\, United States
X-APPLE-STRUCTURED-LOCATION;VALUE=URI;X-ADDRESS=301 North Baldwin Ave\, Arc
 adia\, CA\, 91007\, United States;X-APPLE-RADIUS=100;X-TITLE=Los Angeles C
 ounty Arboretum and Botanic Garden:geo:0,0
END:VEVENT
BEGIN:VTIMEZONE
TZID:America/Los_Angeles
X-LIC-LOCATION:America/Los_Angeles
BEGIN:STANDARD
DTSTART:20191103T010000
TZOFFSETFROM:-0700
TZOFFSETTO:-0800
TZNAME:PST
END:STANDARD
END:VTIMEZONE
END:VCALENDAR