BEGIN:VCALENDAR
VERSION:2.0
PRODID:-//wp-events-plugin.com//7.2.3.1//EN
TZID:America/Los_Angeles
X-WR-TIMEZONE:America/Los_Angeles
BEGIN:VEVENT
UID:84@malibugardenclub.org
DTSTART;TZID=America/Los_Angeles:20120502T190000
DTEND;TZID=America/Los_Angeles:20120502T210000
DTSTAMP:20190623T165651Z
URL:https://www.malibugardenclub.org/events/wildflowers/
SUMMARY:Wildflowers
DESCRIPTION:For our May meeting\, Photographer Jim Kenney presented on wild
 flowers.  His presentation gave an overview of plant communities in our ne
 arby mountains\, with an emphasis not on just colorful wildflowers\, but a
 lso on fire ecology\, the relationship of horticultural plants to local na
 tives\, and a description of the almost completed Backbone Trail.
ATTACH;FMTTYPE=image/jpeg:https://www.malibugardenclub.org/wp-content/uplo
 ads/wildflowers-Jim-Kenney.jpg
CATEGORIES:Malibu Garden Club
LOCATION:Point Dume Club House\, 29500 Heathercliff Drive\, Malibu\, Califo
 rnia\, 90265\, United States
X-APPLE-STRUCTURED-LOCATION;VALUE=URI;X-ADDRESS=29500 Heathercliff Drive\, 
 Malibu\, California\, 90265\, United States;X-APPLE-RADIUS=100;X-TITLE=Poi
 nt Dume Club House:geo:0,0
END:VEVENT
BEGIN:VTIMEZONE
TZID:America/Los_Angeles
X-LIC-LOCATION:America/Los_Angeles
BEGIN:DAYLIGHT
DTSTART:20120311T030000
TZOFFSETFROM:-0800
TZOFFSETTO:-0700
TZNAME:PDT
END:DAYLIGHT
END:VTIMEZONE
END:VCALENDAR