BEGIN:VCALENDAR
VERSION:2.0
PRODID:-//wp-events-plugin.com//7.2.3.1//EN
TZID:America/Los_Angeles
X-WR-TIMEZONE:America/Los_Angeles
BEGIN:VEVENT
UID:187@malibugardenclub.org
DTSTART;TZID=America/Los_Angeles:20200210T100000
DTEND;TZID=America/Los_Angeles:20200210T110000
DTSTAMP:20191215T171205Z
URL:https://www.malibugardenclub.org/events/wildflower-super-blooms-of-201
 7-2019-with-yvonne-savio/
SUMMARY:Wildflower Super Blooms of 2017 & 2019 with Yvonne Savio
DESCRIPTION:The Los Angeles Garden Club presents Yvonne Savio\, who will sh
 are her trips to Carizzo Plain\, Goleta\, Ventura\, Antelope Valley Poppy 
 Preserve\, and Joshua Tree National Monument.
ATTACH;FMTTYPE=image/jpeg:https://www.malibugardenclub.org/wp-content/uplo
 ads/wildflower-super-bloom.jpg
CATEGORIES:Local Events
LOCATION:Griffith Park Visitor's Center Auditorium\, 4730 Crystal Springs D
 rive\, Los Angeles\, CA\, 90027\, United States
X-APPLE-STRUCTURED-LOCATION;VALUE=URI;X-ADDRESS=4730 Crystal Springs Drive\
 , Los Angeles\, CA\, 90027\, United States;X-APPLE-RADIUS=100;X-TITLE=Grif
 fith Park Visitor's Center Auditorium:geo:0,0
END:VEVENT
BEGIN:VTIMEZONE
TZID:America/Los_Angeles
X-LIC-LOCATION:America/Los_Angeles
BEGIN:STANDARD
DTSTART:20191103T010000
TZOFFSETFROM:-0700
TZOFFSETTO:-0800
TZNAME:PST
END:STANDARD
END:VTIMEZONE
END:VCALENDAR