BEGIN:VCALENDAR
VERSION:2.0
PRODID:-//wp-events-plugin.com//7.2.3.1//EN
TZID:America/Los_Angeles
X-WR-TIMEZONE:America/Los_Angeles
BEGIN:VEVENT
UID:198@malibugardenclub.org
DTSTART;TZID=America/Los_Angeles:20200208T100000
DTEND;TZID=America/Los_Angeles:20200208T100000
DTSTAMP:20200131T163326Z
URL:https://www.malibugardenclub.org/events/west-los-angeles-chapter-calif
 ornia-rare-fruit-growers-meeting/
SUMMARY:West Los Angeles Chapter: California Rare Fruit Growers meeting
DESCRIPTION:The West Los Angeles chapter's annual scion wood exchange meeti
 ng is February 8\, 2020\, at Veterans Memorial Complex\, 4117 Overland Ave
 . Culver City at 10:00 a.m.\, free parking. It will have several grafting 
 demonstrations as well as an ability to get free fruit scion wood.  It is 
 free and open to all.
ATTACH;FMTTYPE=image/jpeg:https://www.malibugardenclub.org/wp-content/uplo
 ads/papaya-rare-fruit.jpg
CATEGORIES:Local Events
LOCATION:Veterans Memorial Complex\, 4117 Overland Ave.\, Culver City\, CA\
 , 90230\, United States
X-APPLE-STRUCTURED-LOCATION;VALUE=URI;X-ADDRESS=4117 Overland Ave.\, Culver
  City\, CA\, 90230\, United States;X-APPLE-RADIUS=100;X-TITLE=Veterans Mem
 orial Complex:geo:0,0
END:VEVENT
BEGIN:VTIMEZONE
TZID:America/Los_Angeles
X-LIC-LOCATION:America/Los_Angeles
BEGIN:STANDARD
DTSTART:20191103T010000
TZOFFSETFROM:-0700
TZOFFSETTO:-0800
TZNAME:PST
END:STANDARD
END:VTIMEZONE
END:VCALENDAR