BEGIN:VCALENDAR
VERSION:2.0
PRODID:-//wp-events-plugin.com//7.2.3.1//EN
TZID:America/Los_Angeles
X-WR-TIMEZONE:America/Los_Angeles
BEGIN:VEVENT
UID:183@malibugardenclub.org
DTSTART;TZID=America/Los_Angeles:20191119T093000
DTEND;TZID=America/Los_Angeles:20191119T120000
DTSTAMP:20191116T132641Z
URL:https://www.malibugardenclub.org/events/water-water-everywhere/
SUMMARY:Water\, Water Everywhere
DESCRIPTION:Aquatic gardener David Gardner of Sunland Water Gardens discuss
 es plant breeding\, water lilies and edible aquatics during the monthly me
 eting of the Southern California Garden Club in the Sepulveda Garden Cente
 r. The meeting begins at 9:30 a.m. with a fundraiser plant market and coun
 try store\, a business meeting at 10:20 a.m. and the speaker at 11 a.m. A 
 bring-your-own lunch follows at noon\, with the club providing beverages a
 nd dessert. Free.
ATTACH;FMTTYPE=image/jpeg:https://www.malibugardenclub.org/wp-content/uplo
 ads/water-garden-2.jpg
CATEGORIES:Local Events
LOCATION:Sepulveda Garden Center\, 16633 Magnolia Blvd.\, Encino\, CA\, 914
 36\, United States
X-APPLE-STRUCTURED-LOCATION;VALUE=URI;X-ADDRESS=16633 Magnolia Blvd.\, Enci
 no\, CA\, 91436\, United States;X-APPLE-RADIUS=100;X-TITLE=Sepulveda Garde
 n Center:geo:0,0
END:VEVENT
BEGIN:VTIMEZONE
TZID:America/Los_Angeles
X-LIC-LOCATION:America/Los_Angeles
BEGIN:STANDARD
DTSTART:20191103T010000
TZOFFSETFROM:-0700
TZOFFSETTO:-0800
TZNAME:PST
END:STANDARD
END:VTIMEZONE
END:VCALENDAR