BEGIN:VCALENDAR
VERSION:2.0
PRODID:-//wp-events-plugin.com//7.2.3.1//EN
TZID:America/Los_Angeles
X-WR-TIMEZONE:America/Los_Angeles
BEGIN:VEVENT
UID:96@malibugardenclub.org
DTSTART;TZID=America/Los_Angeles:20110504T190000
DTEND;TZID=America/Los_Angeles:20110504T210000
DTSTAMP:20190623T163658Z
URL:https://www.malibugardenclub.org/events/water-gardens-ponds-fountains/
SUMMARY:Water Gardens\, Ponds & Fountains
DESCRIPTION:For our May meeting\, the Malibu Garden Club proudly presented 
 "Mr. Fish\," Bob Morris of Mr. Fish Aquarium & Pond Service. Mr. Fish pres
 ented on how you can produce a successful water feature in your yard\, cov
 ering construction and maintenance to fish and plants.
ATTACH;FMTTYPE=image/jpeg:https://www.malibugardenclub.org/wp-content/uplo
 ads/water-garden.jpg
CATEGORIES:Malibu Garden Club
LOCATION:Point Dume Club House\, 29500 Heathercliff Drive\, Malibu\, Califo
 rnia\, 90265\, United States
X-APPLE-STRUCTURED-LOCATION;VALUE=URI;X-ADDRESS=29500 Heathercliff Drive\, 
 Malibu\, California\, 90265\, United States;X-APPLE-RADIUS=100;X-TITLE=Poi
 nt Dume Club House:geo:0,0
END:VEVENT
BEGIN:VTIMEZONE
TZID:America/Los_Angeles
X-LIC-LOCATION:America/Los_Angeles
BEGIN:DAYLIGHT
DTSTART:20110313T030000
TZOFFSETFROM:-0800
TZOFFSETTO:-0700
TZNAME:PDT
END:DAYLIGHT
END:VTIMEZONE
END:VCALENDAR