BEGIN:VCALENDAR
VERSION:2.0
PRODID:-//wp-events-plugin.com//7.2.3.1//EN
TZID:America/Los_Angeles
X-WR-TIMEZONE:America/Los_Angeles
BEGIN:VEVENT
UID:106@malibugardenclub.org
DTSTART;TZID=America/Los_Angeles:20100602T190000
DTEND;TZID=America/Los_Angeles:20100602T210000
DTSTAMP:20190619T170915Z
URL:https://www.malibugardenclub.org/events/viticulture-enology-or-grape-g
 rowing-wine-making-a-local-tour/
SUMMARY:Viticulture & Enology or Grape Growing & Wine Making - A Local Tour
DESCRIPTION:Today’s shed is no longer hiding in a far corner of the backy
 ard. Instead\, it occupies a starring role in the landscape. Gardeners are
  transforming this once-humble structure into a backyard sanctuary – a r
 etreat\, just steps from the back door. Sheds have become as individual as
  their inhabitants\, but the best of them fulfill three needs: function\, 
 recreation and inspiration.
ATTACH;FMTTYPE=image/jpeg:https://www.malibugardenclub.org/wp-content/uplo
 ads/wine-grapes.jpg
CATEGORIES:Malibu Garden Club
LOCATION:Point Dume Club House\, 29500 Heathercliff Drive\, Malibu\, Califo
 rnia\, 90265\, United States
X-APPLE-STRUCTURED-LOCATION;VALUE=URI;X-ADDRESS=29500 Heathercliff Drive\, 
 Malibu\, California\, 90265\, United States;X-APPLE-RADIUS=100;X-TITLE=Poi
 nt Dume Club House:geo:0,0
END:VEVENT
BEGIN:VTIMEZONE
TZID:America/Los_Angeles
X-LIC-LOCATION:America/Los_Angeles
BEGIN:DAYLIGHT
DTSTART:20100314T030000
TZOFFSETFROM:-0800
TZOFFSETTO:-0700
TZNAME:PDT
END:DAYLIGHT
END:VTIMEZONE
END:VCALENDAR