BEGIN:VCALENDAR
VERSION:2.0
PRODID:-//wp-events-plugin.com//7.2.3.1//EN
TZID:America/Los_Angeles
X-WR-TIMEZONE:America/Los_Angeles
BEGIN:VEVENT
UID:188@malibugardenclub.org
DTSTART;TZID=America/Los_Angeles:20200109T190000
DTEND;TZID=America/Los_Angeles:20200109T210000
DTSTAMP:20191215T174216Z
URL:https://www.malibugardenclub.org/events/tree-care-and-keeping-trees-ar
 ound-as-long-as-possible-with-nick-araya/
SUMMARY:Tree Care and Keeping Trees Around As Long As Possible with Nick Ar
 aya
DESCRIPTION:Southern California Horticultural Society welcomes arborist Nic
 k Araya discussing tree care and examples of keeping them around as long a
 s possible.
ATTACH;FMTTYPE=image/jpeg:https://www.malibugardenclub.org/wp-content/uplo
 ads/trees-shrubs.jpg
CATEGORIES:Local Events
LOCATION:Friendship Auditorium\, 3201 Riverside Drive\, Los Angeles\, CA\, 
 90027\, United States
X-APPLE-STRUCTURED-LOCATION;VALUE=URI;X-ADDRESS=3201 Riverside Drive\, Los 
 Angeles\, CA\, 90027\, United States;X-APPLE-RADIUS=100;X-TITLE=Friendship
  Auditorium:geo:0,0
END:VEVENT
BEGIN:VTIMEZONE
TZID:America/Los_Angeles
X-LIC-LOCATION:America/Los_Angeles
BEGIN:STANDARD
DTSTART:20191103T010000
TZOFFSETFROM:-0700
TZOFFSETTO:-0800
TZNAME:PST
END:STANDARD
END:VTIMEZONE
END:VCALENDAR