BEGIN:VCALENDAR
VERSION:2.0
PRODID:-//wp-events-plugin.com//7.2.3.1//EN
TZID:America/Los_Angeles
X-WR-TIMEZONE:America/Los_Angeles
BEGIN:VEVENT
UID:228@malibugardenclub.org
DTSTART;TZID=America/Los_Angeles:20231114T103000
DTEND;TZID=America/Los_Angeles:20231114T133000
DTSTAMP:20231212T114811Z
URL:https://www.malibugardenclub.org/events/tour-of-sterling-farm/
SUMMARY:Tour of Sterling Farm
DESCRIPTION:The Malibu Garden Club will visit Sterling Farms in Malibu. See
  how they do their composting\, soil preparation\, and raising of numerous
  plants and vegetables.
ATTACH;FMTTYPE=image/jpeg:https://www.malibugardenclub.org/wp-content/uplo
 ads/Sterling-Farm2023-11-01.jpg
CATEGORIES:Malibu Garden Club
LOCATION:Sterling Farm\, 29127 PCH\, Malibu\, CA\, 90265\, United States
X-APPLE-STRUCTURED-LOCATION;VALUE=URI;X-ADDRESS=29127 PCH\, Malibu\, CA\, 9
 0265\, United States;X-APPLE-RADIUS=100;X-TITLE=Sterling Farm:geo:0,0
END:VEVENT
BEGIN:VTIMEZONE
TZID:America/Los_Angeles
X-LIC-LOCATION:America/Los_Angeles
BEGIN:STANDARD
DTSTART:20231105T010000
TZOFFSETFROM:-0700
TZOFFSETTO:-0800
TZNAME:PST
END:STANDARD
END:VTIMEZONE
END:VCALENDAR