BEGIN:VCALENDAR
VERSION:2.0
PRODID:-//wp-events-plugin.com//7.2.3.1//EN
TZID:America/Los_Angeles
X-WR-TIMEZONE:America/Los_Angeles
BEGIN:VEVENT
UID:98@malibugardenclub.org
DTSTART;TZID=America/Los_Angeles:20110302T190000
DTEND;TZID=America/Los_Angeles:20110302T210000
DTSTAMP:20190623T163916Z
URL:https://www.malibugardenclub.org/events/tomatomania/
SUMMARY:TOMATOMANIA!
DESCRIPTION:A big thanks to Scott Daigre of TOMATOMANIA!\, for giving us an
  inspiring\, engaging\, educational and funny presentation on tomatoes. We
  heard from several of you that you ran out and bought different types of 
 tomato seeds!
ATTACH;FMTTYPE=image/jpeg:https://www.malibugardenclub.org/wp-content/uplo
 ads/tomatomania.jpg
CATEGORIES:Malibu Garden Club
LOCATION:Point Dume Club House\, 29500 Heathercliff Drive\, Malibu\, Califo
 rnia\, 90265\, United States
X-APPLE-STRUCTURED-LOCATION;VALUE=URI;X-ADDRESS=29500 Heathercliff Drive\, 
 Malibu\, California\, 90265\, United States;X-APPLE-RADIUS=100;X-TITLE=Poi
 nt Dume Club House:geo:0,0
END:VEVENT
BEGIN:VTIMEZONE
TZID:America/Los_Angeles
X-LIC-LOCATION:America/Los_Angeles
BEGIN:STANDARD
DTSTART:20101107T010000
TZOFFSETFROM:-0700
TZOFFSETTO:-0800
TZNAME:PST
END:STANDARD
END:VTIMEZONE
END:VCALENDAR