BEGIN:VCALENDAR
VERSION:2.0
PRODID:-//wp-events-plugin.com//7.2.3.1//EN
TZID:America/Los_Angeles
X-WR-TIMEZONE:America/Los_Angeles
BEGIN:VEVENT
UID:203@malibugardenclub.org
DTSTART;TZID=America/Los_Angeles:20200327T090000
DTEND;TZID=America/Los_Angeles:20200329T170000
DTSTAMP:20200308T132444Z
URL:https://www.malibugardenclub.org/events/tomatomania-2/
SUMMARY:TOMATOMANIA!
DESCRIPTION:TOMATOMANIA!\, the world’s largest tomato seedling sale\, ret
 urns to Descanso Gardens. At the plant sale\, select from hundreds of heal
 thy seedlings\, including heirloom varieties\, old favorites and unusual o
 fferings. Get tips from experts on growing great tomatoes at talks.
ATTACH;FMTTYPE=image/jpeg:https://www.malibugardenclub.org/wp-content/uplo
 ads/Tomatomania-1.jpg
CATEGORIES:Local Events
LOCATION:Descanso Gardens\, 1418 Descanso Dr\, La Cañada Flintridge\, CA\,
  91011\, United States
X-APPLE-STRUCTURED-LOCATION;VALUE=URI;X-ADDRESS=1418 Descanso Dr\, La Caña
 da Flintridge\, CA\, 91011\, United States;X-APPLE-RADIUS=100;X-TITLE=Desc
 anso Gardens:geo:0,0
END:VEVENT
BEGIN:VTIMEZONE
TZID:America/Los_Angeles
X-LIC-LOCATION:America/Los_Angeles
BEGIN:DAYLIGHT
DTSTART:20200308T030000
TZOFFSETFROM:-0800
TZOFFSETTO:-0700
TZNAME:PDT
END:DAYLIGHT
END:VTIMEZONE
END:VCALENDAR