BEGIN:VCALENDAR
VERSION:2.0
PRODID:-//wp-events-plugin.com//7.2.3.1//EN
TZID:America/Los_Angeles
X-WR-TIMEZONE:America/Los_Angeles
BEGIN:VEVENT
UID:196@malibugardenclub.org
DTSTART;TZID=America/Los_Angeles:20200304T093000
DTEND;TZID=America/Los_Angeles:20200304T120000
DTSTAMP:20200308T130422Z
URL:https://www.malibugardenclub.org/events/three-wonderful-gardens-in-eng
 land/
SUMMARY:Three Wonderful Gardens in England
DESCRIPTION:For our March 2020 meeting\, Yvonne Savio will present "Three W
 onderful Gardens in England:  Chelsea Flower Show\, Prince Charles' Highgr
 ove Organic Sustainable Garden\, and the 'Mother' of Cottage Gardening Mar
 jery Fish." Yvonne will discuss her travels to these three famous English 
 gardens and the techniques and plants appropriate for our Southern Califor
 nia gardens.
ATTACH;FMTTYPE=image/jpeg:https://www.malibugardenclub.org/wp-content/uplo
 ads/Y-jade-edited-IMG_2672.jpg
CATEGORIES:Malibu Garden Club
LOCATION:Point Dume Club House\, 29500 Heathercliff Drive\, Malibu\, Califo
 rnia\, 90265\, United States
X-APPLE-STRUCTURED-LOCATION;VALUE=URI;X-ADDRESS=29500 Heathercliff Drive\, 
 Malibu\, California\, 90265\, United States;X-APPLE-RADIUS=100;X-TITLE=Poi
 nt Dume Club House:geo:0,0
END:VEVENT
BEGIN:VTIMEZONE
TZID:America/Los_Angeles
X-LIC-LOCATION:America/Los_Angeles
BEGIN:STANDARD
DTSTART:20191103T010000
TZOFFSETFROM:-0700
TZOFFSETTO:-0800
TZNAME:PST
END:STANDARD
END:VTIMEZONE
END:VCALENDAR