BEGIN:VCALENDAR
VERSION:2.0
PRODID:-//wp-events-plugin.com//7.2.3.1//EN
TZID:America/Los_Angeles
X-WR-TIMEZONE:America/Los_Angeles
BEGIN:VEVENT
UID:219@malibugardenclub.org
DTSTART;TZID=America/Los_Angeles:20230513T120000
DTEND;TZID=America/Los_Angeles:20230513T150000
DTSTAMP:20230501T164001Z
URL:https://www.malibugardenclub.org/events/thorne-family-farm/
SUMMARY:Thorne Family Farm
DESCRIPTION:Join the Malibu Garden Club on Saturday\, May 13 for a tour of 
 the Thorne Family Farm. The Thorne Family Farm provides organic produce to
  several restaurants and grocery stores in Malibu. We will be given a behi
 nd the scenes tour of how they raise their produce. 
ATTACH;FMTTYPE=image/jpeg:https://www.malibugardenclub.org/wp-content/uplo
 ads/Thorne-Family-Farm-001.jpg
CATEGORIES:Malibu Garden Club
LOCATION:Thorne Family Farm\, 6043 Bonsall Drive\, Malibu\, CA\, 90265\, Un
 ited States
X-APPLE-STRUCTURED-LOCATION;VALUE=URI;X-ADDRESS=6043 Bonsall Drive\, Malibu
 \, CA\, 90265\, United States;X-APPLE-RADIUS=100;X-TITLE=Thorne Family Far
 m:geo:0,0
END:VEVENT
BEGIN:VTIMEZONE
TZID:America/Los_Angeles
X-LIC-LOCATION:America/Los_Angeles
BEGIN:DAYLIGHT
DTSTART:20230312T030000
TZOFFSETFROM:-0800
TZOFFSETTO:-0700
TZNAME:PDT
END:DAYLIGHT
END:VTIMEZONE
END:VCALENDAR