BEGIN:VCALENDAR
VERSION:2.0
PRODID:-//wp-events-plugin.com//7.2.3.1//EN
TZID:America/Los_Angeles
X-WR-TIMEZONE:America/Los_Angeles
BEGIN:VEVENT
UID:157@malibugardenclub.org
DTSTART;TZID=America/Los_Angeles:20200328T100000
DTEND;TZID=America/Los_Angeles:20200329T170000
DTSTAMP:20190701T094039Z
URL:https://www.malibugardenclub.org/events/theodore-payne-native-plant-ga
 rden-tour/
SUMMARY:Theodore Payne Native Plant Garden Tour
DESCRIPTION:Since 2003\, Theodore Payne Foundation\, together with passiona
 te native gardeners throughout LA County\, has set the standard for Southe
 rn California’s sustainable landscaping. The Garden Tour has proven time
  and again that native gardens are beautiful\, can be designed on any budg
 et\, and that each of us plays a critical role in supporting biodiversity.
  These exemplary landscapes show us a vision for the future of Southern Ca
 lifornia: a future teeming with life.
ATTACH;FMTTYPE=image/jpeg:https://www.malibugardenclub.org/wp-content/uplo
 ads/Payne-about-hero-1.jpg
CATEGORIES:Local Events
END:VEVENT
BEGIN:VTIMEZONE
TZID:America/Los_Angeles
X-LIC-LOCATION:America/Los_Angeles
BEGIN:DAYLIGHT
DTSTART:20200308T030000
TZOFFSETFROM:-0800
TZOFFSETTO:-0700
TZNAME:PDT
END:DAYLIGHT
END:VTIMEZONE
END:VCALENDAR