BEGIN:VCALENDAR
VERSION:2.0
PRODID:-//wp-events-plugin.com//7.2.3.1//EN
TZID:America/Los_Angeles
X-WR-TIMEZONE:America/Los_Angeles
BEGIN:VEVENT
UID:35@malibugardenclub.org
DTSTART;TZID=America/Los_Angeles:20161102T190000
DTEND;TZID=America/Los_Angeles:20161102T210000
DTSTAMP:20190623T173001Z
URL:https://www.malibugardenclub.org/events/the-malibu-lagoon-3-years-afte
 r-restoration/
SUMMARY:The Malibu Lagoon: 3 Years after Restoration
DESCRIPTION:For our November event\, Mark Abramson presented The Malibu Lag
 oon: 3 Years after Restoration. Mark created one of the most successful co
 mmunity volunteer monitoring programs in the country for the Malibu Creek 
 Watershed and has since created innovative partnerships with State and Nat
 ional Agencies to implement fish barrier removal projects and large-scale 
 stream and riparian restoration projects in the Malibu Creek and Ballona C
 reek Watersheds.
ATTACH;FMTTYPE=image/jpeg:https://www.malibugardenclub.org/wp-content/uplo
 ads/malibu-lagoon.jpg
CATEGORIES:Malibu Garden Club
LOCATION:Point Dume Club House\, 29500 Heathercliff Drive\, Malibu\, Califo
 rnia\, 90265\, United States
X-APPLE-STRUCTURED-LOCATION;VALUE=URI;X-ADDRESS=29500 Heathercliff Drive\, 
 Malibu\, California\, 90265\, United States;X-APPLE-RADIUS=100;X-TITLE=Poi
 nt Dume Club House:geo:0,0
END:VEVENT
BEGIN:VTIMEZONE
TZID:America/Los_Angeles
X-LIC-LOCATION:America/Los_Angeles
BEGIN:DAYLIGHT
DTSTART:20160313T030000
TZOFFSETFROM:-0800
TZOFFSETTO:-0700
TZNAME:PDT
END:DAYLIGHT
END:VTIMEZONE
END:VCALENDAR