BEGIN:VCALENDAR
VERSION:2.0
PRODID:-//wp-events-plugin.com//7.2.3.1//EN
TZID:America/Los_Angeles
X-WR-TIMEZONE:America/Los_Angeles
BEGIN:VEVENT
UID:64@malibugardenclub.org
DTSTART;TZID=America/Los_Angeles:20140402T190000
DTEND;TZID=America/Los_Angeles:20140402T210000
DTSTAMP:20190623T171620Z
URL:https://www.malibugardenclub.org/events/the-beauty-of-begonias-and-how
 -to-grow-them/
SUMMARY:The Beauty of Begonias and How To Grow Them
DESCRIPTION:For our April meeting\, Al Palacio presented on "The Beauty of 
 Begonias and How to Grow Them." Al's talk gave us a great overview of the 
 entire fascinating family of Begonias\, including Shrub\, Thick-stemmed\, 
 Rhizomatous\, Tuberous\, Canes\, and Terrarium Begonias.
ATTACH;FMTTYPE=image/jpeg:https://www.malibugardenclub.org/wp-content/uplo
 ads/begonias-1.jpg
CATEGORIES:Malibu Garden Club
LOCATION:Point Dume Club House\, 29500 Heathercliff Drive\, Malibu\, Califo
 rnia\, 90265\, United States
X-APPLE-STRUCTURED-LOCATION;VALUE=URI;X-ADDRESS=29500 Heathercliff Drive\, 
 Malibu\, California\, 90265\, United States;X-APPLE-RADIUS=100;X-TITLE=Poi
 nt Dume Club House:geo:0,0
END:VEVENT
BEGIN:VTIMEZONE
TZID:America/Los_Angeles
X-LIC-LOCATION:America/Los_Angeles
BEGIN:DAYLIGHT
DTSTART:20140309T030000
TZOFFSETFROM:-0800
TZOFFSETTO:-0700
TZNAME:PDT
END:DAYLIGHT
END:VTIMEZONE
END:VCALENDAR