BEGIN:VCALENDAR
VERSION:2.0
PRODID:-//wp-events-plugin.com//7.2.3.1//EN
TZID:America/Los_Angeles
X-WR-TIMEZONE:America/Los_Angeles
BEGIN:VEVENT
UID:5@malibugardenclub.org
DTSTART;TZID=America/Los_Angeles:20190605T093000
DTEND;TZID=America/Los_Angeles:20190605T120000
DTSTAMP:20190924T172900Z
URL:https://www.malibugardenclub.org/events/tasting-the-wild/
SUMMARY:Tasting the Wild: Foraging for Local Flavors and the Future of Food
DESCRIPTION:For our June 2019 event\, Jess Starwood presented "Tasting the 
 Wild: Foraging for Local Flavors and the Future of Food." Somewhere along 
 the way\, we have lost our intimate relationship with our natural world. T
 hrough natural plant medicines\, wild foods and nature connection\, we can
  rediscover ways to reignite that connection to help relieve modern day ai
 lments while improving physical and psychological well-being.
ATTACH;FMTTYPE=image/jpeg:https://www.malibugardenclub.org/wp-content/uplo
 ads/2019-06-mushroom.jpg
CATEGORIES:Malibu Garden Club
LOCATION:Point Dume Club House\, 29500 Heathercliff Drive\, Malibu\, Califo
 rnia\, 90265\, United States
X-APPLE-STRUCTURED-LOCATION;VALUE=URI;X-ADDRESS=29500 Heathercliff Drive\, 
 Malibu\, California\, 90265\, United States;X-APPLE-RADIUS=100;X-TITLE=Poi
 nt Dume Club House:geo:0,0
END:VEVENT
BEGIN:VTIMEZONE
TZID:America/Los_Angeles
X-LIC-LOCATION:America/Los_Angeles
BEGIN:DAYLIGHT
DTSTART:20190310T030000
TZOFFSETFROM:-0800
TZOFFSETTO:-0700
TZNAME:PDT
END:DAYLIGHT
END:VTIMEZONE
END:VCALENDAR