BEGIN:VCALENDAR
VERSION:2.0
PRODID:-//wp-events-plugin.com//7.2.3.1//EN
TZID:America/Los_Angeles
X-WR-TIMEZONE:America/Los_Angeles
BEGIN:VEVENT
UID:97@malibugardenclub.org
DTSTART;TZID=America/Los_Angeles:20110406T190000
DTEND;TZID=America/Los_Angeles:20110406T210000
DTSTAMP:20190623T163817Z
URL:https://www.malibugardenclub.org/events/sustainable-landscaping-for-du
 mmies-a-visionary-look-at-the-future-of-gardens/
SUMMARY:Sustainable Landscaping for Dummies\, A Visionary Look at the Futur
 e of Gardens
DESCRIPTION:For our April meeting\, we were pleased to have Owen Dell\, an 
 award-winning\, internationally admired landscape architect\, author\, and
  educator\, and the principal of Owen Dell & Associates in Santa Barbara s
 pecializing in sustainable landscape architectural services.
ATTACH;FMTTYPE=image/jpeg:https://www.malibugardenclub.org/wp-content/uplo
 ads/Sustainable-Landscaping.jpg
CATEGORIES:Malibu Garden Club
LOCATION:Point Dume Club House\, 29500 Heathercliff Drive\, Malibu\, Califo
 rnia\, 90265\, United States
X-APPLE-STRUCTURED-LOCATION;VALUE=URI;X-ADDRESS=29500 Heathercliff Drive\, 
 Malibu\, California\, 90265\, United States;X-APPLE-RADIUS=100;X-TITLE=Poi
 nt Dume Club House:geo:0,0
END:VEVENT
BEGIN:VTIMEZONE
TZID:America/Los_Angeles
X-LIC-LOCATION:America/Los_Angeles
BEGIN:DAYLIGHT
DTSTART:20110313T030000
TZOFFSETFROM:-0800
TZOFFSETTO:-0700
TZNAME:PDT
END:DAYLIGHT
END:VTIMEZONE
END:VCALENDAR