BEGIN:VCALENDAR
VERSION:2.0
PRODID:-//wp-events-plugin.com//7.2.3.1//EN
TZID:America/Los_Angeles
X-WR-TIMEZONE:America/Los_Angeles
BEGIN:VEVENT
UID:114@malibugardenclub.org
DTSTART;TZID=America/Los_Angeles:20091104T190000
DTEND;TZID=America/Los_Angeles:20091104T210000
DTSTAMP:20190623T160056Z
URL:https://www.malibugardenclub.org/events/sustainable-gardening-on-the-f
 arm/
SUMMARY:Sustainable Gardening on the Farm
DESCRIPTION:For our November meeting\, Phil McGrath from McGrath Family Far
 ms presented tips on growing your own food\, samples from the farm\, what'
 s good to grow now\, seasonal gardening info\, recipes & more.
ATTACH;FMTTYPE=image/jpeg:https://www.malibugardenclub.org/wp-content/uplo
 ads/sunflowers.jpg
CATEGORIES:Malibu Garden Club
LOCATION:Point Dume Club House\, 29500 Heathercliff Drive\, Malibu\, Califo
 rnia\, 90265\, United States
X-APPLE-STRUCTURED-LOCATION;VALUE=URI;X-ADDRESS=29500 Heathercliff Drive\, 
 Malibu\, California\, 90265\, United States;X-APPLE-RADIUS=100;X-TITLE=Poi
 nt Dume Club House:geo:0,0
END:VEVENT
BEGIN:VTIMEZONE
TZID:America/Los_Angeles
X-LIC-LOCATION:America/Los_Angeles
BEGIN:STANDARD
DTSTART:20091101T010000
TZOFFSETFROM:-0700
TZOFFSETTO:-0800
TZNAME:PST
END:STANDARD
END:VTIMEZONE
END:VCALENDAR