BEGIN:VCALENDAR
VERSION:2.0
PRODID:-//wp-events-plugin.com//7.2.3.1//EN
TZID:America/Los_Angeles
X-WR-TIMEZONE:America/Los_Angeles
BEGIN:VEVENT
UID:199@malibugardenclub.org
DTSTART;TZID=America/Los_Angeles:20200227T080000
DTEND;TZID=America/Los_Angeles:20200227T120000
DTSTAMP:20200205T224739Z
URL:https://www.malibugardenclub.org/events/sustainability-through-soil-he
 alth/
SUMMARY:Sustainability through Soil Health
DESCRIPTION:The Thelma Hansen Research Symposium is hosting Sustainability 
 through Soil Health on Thursday\, February 27\, 2020 from 8 a.m. – 12 no
 on.
ATTACH;FMTTYPE=image/jpeg:https://www.malibugardenclub.org/wp-content/uplo
 ads/soil-health-001.jpg
CATEGORIES:Local Events
LOCATION:Crowne Plaza Hotel\, 450 E Harbor Blvd\, Ventura\, CA\, 93001\, Un
 ited States
X-APPLE-STRUCTURED-LOCATION;VALUE=URI;X-ADDRESS=450 E Harbor Blvd\, Ventura
 \, CA\, 93001\, United States;X-APPLE-RADIUS=100;X-TITLE=Crowne Plaza Hote
 l:geo:0,0
END:VEVENT
BEGIN:VTIMEZONE
TZID:America/Los_Angeles
X-LIC-LOCATION:America/Los_Angeles
BEGIN:STANDARD
DTSTART:20191103T010000
TZOFFSETFROM:-0700
TZOFFSETTO:-0800
TZNAME:PST
END:STANDARD
END:VTIMEZONE
END:VCALENDAR