BEGIN:VCALENDAR
VERSION:2.0
PRODID:-//wp-events-plugin.com//7.2.3.1//EN
TZID:America/Los_Angeles
X-WR-TIMEZONE:America/Los_Angeles
BEGIN:VEVENT
UID:42@malibugardenclub.org
DTSTART;TZID=America/Los_Angeles;VALUE=DATE:20250926
DTEND;TZID=America/Los_Angeles;VALUE=DATE:20250927
DTSTAMP:20250927T134854Z
URL:https://www.malibugardenclub.org/events/summer-hiatus/
SUMMARY:Summer Hiatus
DESCRIPTION:The Malibu Garden Club is on summer hiatus until the 2024-2025 
 season starting in October. Until then\, enjoy your summer in the garden.
ATTACH;FMTTYPE=image/jpeg:https://www.malibugardenclub.org/wp-content/uplo
 ads/wide-pano.jpg
CATEGORIES:Malibu Garden Club
END:VEVENT
BEGIN:VTIMEZONE
TZID:America/Los_Angeles
X-LIC-LOCATION:America/Los_Angeles
BEGIN:DAYLIGHT
DTSTART:20250309T030000
TZOFFSETFROM:-0800
TZOFFSETTO:-0700
TZNAME:PDT
END:DAYLIGHT
END:VTIMEZONE
END:VCALENDAR