BEGIN:VCALENDAR
VERSION:2.0
PRODID:-//wp-events-plugin.com//7.2.3.1//EN
TZID:America/Los_Angeles
X-WR-TIMEZONE:America/Los_Angeles
BEGIN:VEVENT
UID:134@malibugardenclub.org
DTSTART;TZID=America/Los_Angeles:20190627T183000
DTEND;TZID=America/Los_Angeles:20190627T200000
DTSTAMP:20190620T153157Z
URL:https://www.malibugardenclub.org/events/stewarding-griffith-park-seed-
 conservation-in-a-biodiversity-hotspot/
SUMMARY:Stewarding Griffith Park: Seed Conservation in a Biodiversity Hotsp
 ot
DESCRIPTION:Genevieve Arnold\, Seed Program Manager\, Theodore Payne Founda
 tion for Wild Flowers & Native Plants will be speaking at the first of our
  lecture series which is in partnership with the Los Feliz Branch Library.
  Arnold will touch on aspects of why seed banking is so important.
ATTACH;FMTTYPE=image/jpeg:https://www.malibugardenclub.org/wp-content/uplo
 ads/Griffith-Park-1.jpg
CATEGORIES:Local Events
LOCATION:Los Feliz Branch Library\, 1874 Hillhurst Avenue\, Los Angeles\, C
 A\, 90027\, United States
X-APPLE-STRUCTURED-LOCATION;VALUE=URI;X-ADDRESS=1874 Hillhurst Avenue\, Los
  Angeles\, CA\, 90027\, United States;X-APPLE-RADIUS=100;X-TITLE=Los Feliz
  Branch Library:geo:0,0
END:VEVENT
BEGIN:VTIMEZONE
TZID:America/Los_Angeles
X-LIC-LOCATION:America/Los_Angeles
BEGIN:DAYLIGHT
DTSTART:20190310T030000
TZOFFSETFROM:-0800
TZOFFSETTO:-0700
TZNAME:PDT
END:DAYLIGHT
END:VTIMEZONE
END:VCALENDAR