BEGIN:VCALENDAR
VERSION:2.0
PRODID:-//wp-events-plugin.com//7.2.3.1//EN
TZID:America/Los_Angeles
X-WR-TIMEZONE:America/Los_Angeles
BEGIN:VEVENT
UID:231@malibugardenclub.org
DTSTART;TZID=America/Los_Angeles:20240406T130000
DTEND;TZID=America/Los_Angeles:20240406T160000
DTSTAMP:20240407T152355Z
URL:https://www.malibugardenclub.org/events/spring-garden-tour-and-barbecu
 e-luncheon/
SUMMARY:Spring Garden Tour and Barbecue Luncheon
DESCRIPTION:Come\, celebrate the start of Spring with the Malibu Garden Clu
 b! We will have a Spring Garden Tour and Barbecue Luncheon.
ATTACH;FMTTYPE=image/jpeg:https://www.malibugardenclub.org/wp-content/uplo
 ads/Spring-Garden-Tour-2024-03-01.jpg
CATEGORIES:Malibu Garden Club
END:VEVENT
BEGIN:VTIMEZONE
TZID:America/Los_Angeles
X-LIC-LOCATION:America/Los_Angeles
BEGIN:DAYLIGHT
DTSTART:20240310T030000
TZOFFSETFROM:-0800
TZOFFSETTO:-0700
TZNAME:PDT
END:DAYLIGHT
END:VTIMEZONE
END:VCALENDAR