BEGIN:VCALENDAR
VERSION:2.0
PRODID:-//wp-events-plugin.com//7.2.3.1//EN
TZID:America/Los_Angeles
X-WR-TIMEZONE:America/Los_Angeles
BEGIN:VEVENT
UID:16@malibugardenclub.org
DTSTART;TZID=America/Los_Angeles:20190206T093000
DTEND;TZID=America/Los_Angeles:20190206T120000
DTSTAMP:20190623T175449Z
URL:https://www.malibugardenclub.org/events/spring-garden-preparation/
SUMMARY:Spring Garden Preparation
DESCRIPTION:For our February 2019 event\, Curtis Thomsen presented Spring G
 arden Preparation. Curtis discussed the restoration of properties after th
 e fire\, laying out your garden\, composting and efficient water usage.
ATTACH;FMTTYPE=image/jpeg:https://www.malibugardenclub.org/wp-content/uplo
 ads/soil-prep.jpg
CATEGORIES:Malibu Garden Club
LOCATION:Point Dume Club House\, 29500 Heathercliff Drive\, Malibu\, Califo
 rnia\, 90265\, United States
X-APPLE-STRUCTURED-LOCATION;VALUE=URI;X-ADDRESS=29500 Heathercliff Drive\, 
 Malibu\, California\, 90265\, United States;X-APPLE-RADIUS=100;X-TITLE=Poi
 nt Dume Club House:geo:0,0
END:VEVENT
BEGIN:VTIMEZONE
TZID:America/Los_Angeles
X-LIC-LOCATION:America/Los_Angeles
BEGIN:STANDARD
DTSTART:20181104T010000
TZOFFSETFROM:-0700
TZOFFSETTO:-0800
TZNAME:PST
END:STANDARD
END:VTIMEZONE
END:VCALENDAR