BEGIN:VCALENDAR
VERSION:2.0
PRODID:-//wp-events-plugin.com//7.2.3.1//EN
TZID:America/Los_Angeles
X-WR-TIMEZONE:America/Los_Angeles
BEGIN:VEVENT
UID:165@malibugardenclub.org
DTSTART;TZID=America/Los_Angeles:20191106T093000
DTEND;TZID=America/Los_Angeles:20191106T120000
DTSTAMP:20191112T134840Z
URL:https://www.malibugardenclub.org/events/spectacular-succulents/
SUMMARY:Spectacular Succulents - "Having the rainbow while saving the rain"
DESCRIPTION:Join us for our November 2019 event\, Michael Tardif presents "
 Spectacular Succulents - Having the rainbow while saving the rain." Water-
 wise\, fire-wise and medicinal\, discover the beauty and magic of amazing 
 succulent plants. Whether used in the landscape\, or as a "rainbow in a po
 t"\, these plants truly have something for everyone!
ATTACH;FMTTYPE=image/jpeg:https://www.malibugardenclub.org/wp-content/uplo
 ads/more-succulents.jpg
CATEGORIES:Malibu Garden Club
LOCATION:Point Dume Club House\, 29500 Heathercliff Drive\, Malibu\, Califo
 rnia\, 90265\, United States
X-APPLE-STRUCTURED-LOCATION;VALUE=URI;X-ADDRESS=29500 Heathercliff Drive\, 
 Malibu\, California\, 90265\, United States;X-APPLE-RADIUS=100;X-TITLE=Poi
 nt Dume Club House:geo:0,0
END:VEVENT
BEGIN:VTIMEZONE
TZID:America/Los_Angeles
X-LIC-LOCATION:America/Los_Angeles
BEGIN:STANDARD
DTSTART:20191103T010000
TZOFFSETFROM:-0700
TZOFFSETTO:-0800
TZNAME:PST
END:STANDARD
END:VTIMEZONE
END:VCALENDAR