BEGIN:VCALENDAR
VERSION:2.0
PRODID:-//wp-events-plugin.com//7.2.3.1//EN
TZID:America/Los_Angeles
X-WR-TIMEZONE:America/Los_Angeles
BEGIN:VEVENT
UID:206@malibugardenclub.org
DTSTART;TZID=America/Los_Angeles:20200425T100000
DTEND;TZID=America/Los_Angeles:20200425T160000
DTSTAMP:20200308T140208Z
URL:https://www.malibugardenclub.org/events/south-coast-rose-societys-37th
 -annual-rose-show-and-sale/
SUMMARY:South Coast Rose Society's 37th Annual Rose Show and Sale
DESCRIPTION:Rose and clematis enthusiasts are encouraged to enter their flo
 wering blooms in our community show. Entries are accepted between 6:30 am 
 and 10 am. The Rose Society will provide vases for all blooms. Please brin
 g flower arrangements in personal containers. Stop by to chat with our con
 sulting Rosarians and knowledgeable members. SCRS will also have roses\, t
 ools and our famous rose cocktail for sale.
ATTACH;FMTTYPE=image/jpeg:https://www.malibugardenclub.org/wp-content/uplo
 ads/roses-David-Bassani.jpg
CATEGORIES:Local Events
LOCATION:South Coast Botanic Garden\, 26300 Crenshaw Boulevard\, Palos Verd
 es Peninsula\, California\, 90274\, United States
X-APPLE-STRUCTURED-LOCATION;VALUE=URI;X-ADDRESS=26300 Crenshaw Boulevard\, 
 Palos Verdes Peninsula\, California\, 90274\, United States;X-APPLE-RADIUS
 =100;X-TITLE=South Coast Botanic Garden:geo:0,0
END:VEVENT
BEGIN:VTIMEZONE
TZID:America/Los_Angeles
X-LIC-LOCATION:America/Los_Angeles
BEGIN:DAYLIGHT
DTSTART:20200308T030000
TZOFFSETFROM:-0800
TZOFFSETTO:-0700
TZNAME:PDT
END:DAYLIGHT
END:VTIMEZONE
END:VCALENDAR