BEGIN:VCALENDAR
VERSION:2.0
PRODID:-//wp-events-plugin.com//7.2.3.1//EN
TZID:America/Los_Angeles
X-WR-TIMEZONE:America/Los_Angeles
BEGIN:VEVENT
UID:207@malibugardenclub.org
DTSTART;TZID=America/Los_Angeles:20200503T090000
DTEND;TZID=America/Los_Angeles:20200503T160000
DTSTAMP:20200308T140750Z
URL:https://www.malibugardenclub.org/events/south-coast-epiphyllum-society
 -show-and-sale/
SUMMARY:South Coast Epiphyllum Society Show and Sale
DESCRIPTION:If you are not familiar with an Epiphyllum\, consider the popul
 ar Christmas cactus\, with bright pink flowers that come out during the ho
 lidays.  This and other varieties will be on display to showcase the varie
 d and colorful show-stopping blooms of hybrid epiphytic cacti.  Plants and
  cuttings will be available to purchase\, and even if you are just browsin
 g\, the annual show is worth a visit.
ATTACH;FMTTYPE=image/jpeg:https://www.malibugardenclub.org/wp-content/uplo
 ads/Epiphyllum-1200x600.jpg
CATEGORIES:Local Events
LOCATION:South Coast Botanic Garden\, 26300 Crenshaw Boulevard\, Palos Verd
 es Peninsula\, California\, 90274\, United States
X-APPLE-STRUCTURED-LOCATION;VALUE=URI;X-ADDRESS=26300 Crenshaw Boulevard\, 
 Palos Verdes Peninsula\, California\, 90274\, United States;X-APPLE-RADIUS
 =100;X-TITLE=South Coast Botanic Garden:geo:0,0
END:VEVENT
BEGIN:VTIMEZONE
TZID:America/Los_Angeles
X-LIC-LOCATION:America/Los_Angeles
BEGIN:DAYLIGHT
DTSTART:20200308T030000
TZOFFSETFROM:-0800
TZOFFSETTO:-0700
TZNAME:PDT
END:DAYLIGHT
END:VTIMEZONE
END:VCALENDAR