BEGIN:VCALENDAR
VERSION:2.0
PRODID:-//wp-events-plugin.com//7.2.3.1//EN
TZID:America/Los_Angeles
X-WR-TIMEZONE:America/Los_Angeles
BEGIN:VEVENT
UID:205@malibugardenclub.org
DTSTART;TZID=America/Los_Angeles:20200404T090000
DTEND;TZID=America/Los_Angeles:20200405T160000
DTSTAMP:20200308T135605Z
URL:https://www.malibugardenclub.org/events/south-coast-cactus-and-succule
 nt-society-show-sale/
SUMMARY:South Coast Cactus and Succulent Society Show & Sale
DESCRIPTION:For two days the Francis Young Hall will overflow with thousand
 s of sculptural\, rare\, colorful and beautiful cacti and succulents.  Soc
 iety members and growers will be on hand to help you select plants that be
 st meet your needs—indoors or outdoors and for drought-tolerant landscap
 es. 
ATTACH;FMTTYPE=image/jpeg:https://www.malibugardenclub.org/wp-content/uplo
 ads/succulents-02.jpg
CATEGORIES:Local Events
LOCATION:South Coast Botanic Garden\, 26300 Crenshaw Boulevard\, Palos Verd
 es Peninsula\, California\, 90274\, United States
X-APPLE-STRUCTURED-LOCATION;VALUE=URI;X-ADDRESS=26300 Crenshaw Boulevard\, 
 Palos Verdes Peninsula\, California\, 90274\, United States;X-APPLE-RADIUS
 =100;X-TITLE=South Coast Botanic Garden:geo:0,0
END:VEVENT
BEGIN:VTIMEZONE
TZID:America/Los_Angeles
X-LIC-LOCATION:America/Los_Angeles
BEGIN:DAYLIGHT
DTSTART:20200308T030000
TZOFFSETFROM:-0800
TZOFFSETTO:-0700
TZNAME:PDT
END:DAYLIGHT
END:VTIMEZONE
END:VCALENDAR