BEGIN:VCALENDAR
VERSION:2.0
PRODID:-//wp-events-plugin.com//7.2.3.1//EN
TZID:America/Los_Angeles
X-WR-TIMEZONE:America/Los_Angeles
BEGIN:VEVENT
UID:204@malibugardenclub.org
DTSTART;TZID=America/Los_Angeles:20200314T103000
DTEND;TZID=America/Los_Angeles:20200314T160000
DTSTAMP:20200308T134424Z
URL:https://www.malibugardenclub.org/events/south-coast-african-violet-soc
 iety-show-sale/
SUMMARY:South Coast African Violet Society Show & Sale
DESCRIPTION:Learn about the care and culture of the African Violets. How to
  put down a leaf\, re-pot a mature plant\, rejuvenate a plant with a long 
 neck and remove a sucker. The sale will feature many varieties of housepla
 nts\, including beautiful African Violets. The show will feature exquisite
  specimens.
ATTACH;FMTTYPE=image/jpeg:https://www.malibugardenclub.org/wp-content/uplo
 ads/Saintpaulia-Pink-Amiss.jpg
CATEGORIES:Local Events
LOCATION:South Coast Botanic Garden\, 26300 Crenshaw Boulevard\, Palos Verd
 es Peninsula\, California\, 90274\, United States
X-APPLE-STRUCTURED-LOCATION;VALUE=URI;X-ADDRESS=26300 Crenshaw Boulevard\, 
 Palos Verdes Peninsula\, California\, 90274\, United States;X-APPLE-RADIUS
 =100;X-TITLE=South Coast Botanic Garden:geo:0,0
END:VEVENT
BEGIN:VTIMEZONE
TZID:America/Los_Angeles
X-LIC-LOCATION:America/Los_Angeles
BEGIN:DAYLIGHT
DTSTART:20200308T030000
TZOFFSETFROM:-0800
TZOFFSETTO:-0700
TZNAME:PDT
END:DAYLIGHT
END:VTIMEZONE
END:VCALENDAR