BEGIN:VCALENDAR
VERSION:2.0
PRODID:-//wp-events-plugin.com//7.2.3.1//EN
TZID:America/Los_Angeles
X-WR-TIMEZONE:America/Los_Angeles
BEGIN:VEVENT
UID:161@malibugardenclub.org
DTSTART;TZID=America/Los_Angeles:20190714T100000
DTEND;TZID=America/Los_Angeles:20190714T151500
DTSTAMP:20190701T103944Z
URL:https://www.malibugardenclub.org/events/sho-chiku-bai-bonsai-show-2/
SUMMARY:Sho Chiku Bai Bonsai Show
DESCRIPTION:Sho Chiku Bai Bonsai demonstrates the art of bonsai.
ATTACH;FMTTYPE=image/jpeg:https://www.malibugardenclub.org/wp-content/uplo
 ads/bonsai-show.jpg
CATEGORIES:Local Events
LOCATION:SuihoEn The Japanese Garden\, 6100 Woodley Ave\, Van Nuys\, CA\, 9
 1406\, United States
X-APPLE-STRUCTURED-LOCATION;VALUE=URI;X-ADDRESS=6100 Woodley Ave\, Van Nuys
 \, CA\, 91406\, United States;X-APPLE-RADIUS=100;X-TITLE=SuihoEn The Japan
 ese Garden:geo:0,0
END:VEVENT
BEGIN:VTIMEZONE
TZID:America/Los_Angeles
X-LIC-LOCATION:America/Los_Angeles
BEGIN:DAYLIGHT
DTSTART:20190310T030000
TZOFFSETFROM:-0800
TZOFFSETTO:-0700
TZNAME:PDT
END:DAYLIGHT
END:VTIMEZONE
END:VCALENDAR