BEGIN:VCALENDAR
VERSION:2.0
PRODID:-//wp-events-plugin.com//7.2.3.1//EN
TZID:America/Los_Angeles
X-WR-TIMEZONE:America/Los_Angeles
BEGIN:VEVENT
UID:182@malibugardenclub.org
DTSTART;TZID=America/Los_Angeles:20191115T080000
DTEND;TZID=America/Los_Angeles:20191116T140000
DTSTAMP:20191116T131158Z
URL:https://www.malibugardenclub.org/events/sheet-mulching-for-healthy-soi
 l/
SUMMARY:Sheet Mulching for Healthy Soil
DESCRIPTION:"Sheet Mulching for Healthy Soil" is the topic of two free work
 shops offered by the Pasadena Department of Water and Power about sheet/la
 sagna mulching techniques to suppress weeds\, reduce irrigation and improv
 e your garden soil.
ATTACH;FMTTYPE=image/jpeg:https://www.malibugardenclub.org/wp-content/uplo
 ads/pasedena.jpg
CATEGORIES:Local Events
LOCATION:Sheldon Reservoir\, 1800 N. Arroyo Blvd.\, Pasadena\, CA\, 91103\,
  United States
X-APPLE-STRUCTURED-LOCATION;VALUE=URI;X-ADDRESS=1800 N. Arroyo Blvd.\, Pasa
 dena\, CA\, 91103\, United States;X-APPLE-RADIUS=100;X-TITLE=Sheldon Reser
 voir:geo:0,0
END:VEVENT
BEGIN:VTIMEZONE
TZID:America/Los_Angeles
X-LIC-LOCATION:America/Los_Angeles
BEGIN:STANDARD
DTSTART:20191103T010000
TZOFFSETFROM:-0700
TZOFFSETTO:-0800
TZNAME:PST
END:STANDARD
END:VTIMEZONE
END:VCALENDAR