BEGIN:VCALENDAR
VERSION:2.0
PRODID:-//wp-events-plugin.com//7.2.3.1//EN
TZID:America/Los_Angeles
X-WR-TIMEZONE:America/Los_Angeles
BEGIN:VEVENT
UID:117@malibugardenclub.org
DTSTART;TZID=America/Los_Angeles:20090516T110000
DTEND;TZID=America/Los_Angeles:20090516T140000
DTSTAMP:20190623T160320Z
URL:https://www.malibugardenclub.org/events/serra-canyon-ranch-nursery-ser
 ra-retreat-field-trip/
SUMMARY:Serra Canyon Ranch Nursery Serra Retreat - Field Trip
DESCRIPTION:The new owners\, Rosemary & John Williams\, along with plant en
 thusiast & fellow club member Kevin Hatch\, will be hosting a Special Open
  House/Reception/Tour/Special Sale exclusively for the Malibu Garden Club 
 & our Guests.
ATTACH;FMTTYPE=image/jpeg:https://www.malibugardenclub.org/wp-content/uplo
 ads/canyon-ranch.jpg
CATEGORIES:Malibu Garden Club
END:VEVENT
BEGIN:VTIMEZONE
TZID:America/Los_Angeles
X-LIC-LOCATION:America/Los_Angeles
BEGIN:DAYLIGHT
DTSTART:20090308T030000
TZOFFSETFROM:-0800
TZOFFSETTO:-0700
TZNAME:PDT
END:DAYLIGHT
END:VTIMEZONE
END:VCALENDAR