BEGIN:VCALENDAR
VERSION:2.0
PRODID:-//wp-events-plugin.com//7.2.3.1//EN
TZID:America/Los_Angeles
X-WR-TIMEZONE:America/Los_Angeles
BEGIN:VEVENT
UID:92@malibugardenclub.org
DTSTART;TZID=America/Los_Angeles:20110907T190000
DTEND;TZID=America/Los_Angeles:20110907T220000
DTSTAMP:20190623T170304Z
URL:https://www.malibugardenclub.org/events/roses-for-the-southern-califor
 nia-garden/
SUMMARY:Roses for the Southern California Garden
DESCRIPTION:The Malibu Garden Club was pleased to have Master Consulting Ro
 sarian Dan Bifano at our September meeting. With his A-List of clients (fo
 r a rosarian)\, he's been on the Oprah show many times\, and he is the man
  who helped Barbra Streisand choose the rose that bears her name.
ATTACH;FMTTYPE=image/jpeg:https://www.malibugardenclub.org/wp-content/uplo
 ads/julia-childs-rose.jpg
CATEGORIES:Malibu Garden Club
LOCATION:Point Dume Club House\, 29500 Heathercliff Drive\, Malibu\, Califo
 rnia\, 90265\, United States
X-APPLE-STRUCTURED-LOCATION;VALUE=URI;X-ADDRESS=29500 Heathercliff Drive\, 
 Malibu\, California\, 90265\, United States;X-APPLE-RADIUS=100;X-TITLE=Poi
 nt Dume Club House:geo:0,0
END:VEVENT
BEGIN:VTIMEZONE
TZID:America/Los_Angeles
X-LIC-LOCATION:America/Los_Angeles
BEGIN:DAYLIGHT
DTSTART:20110313T030000
TZOFFSETFROM:-0800
TZOFFSETTO:-0700
TZNAME:PDT
END:DAYLIGHT
END:VTIMEZONE
END:VCALENDAR