BEGIN:VCALENDAR
VERSION:2.0
PRODID:-//wp-events-plugin.com//7.2.3.1//EN
TZID:America/Los_Angeles
X-WR-TIMEZONE:America/Los_Angeles
BEGIN:VEVENT
UID:67@malibugardenclub.org
DTSTART;TZID=America/Los_Angeles:20140108T190000
DTEND;TZID=America/Los_Angeles:20140108T210000
DTSTAMP:20190623T171927Z
URL:https://www.malibugardenclub.org/events/rose-care/
SUMMARY:Rose Care
DESCRIPTION:For our January meeting\, President of the San Fernando Valley 
 Rose Society\, President-Elect of the Beverly Hills Rose Society\, Member 
 of the International Rose Trials at Rose Hills in Whittier and noted rosar
 ian\, David Bassani\, presented on "Growing Roses in Malibu: Rose Selectio
 n and Cultivation."
ATTACH;FMTTYPE=image/jpeg:https://www.malibugardenclub.org/wp-content/uplo
 ads/David-Bassani-roses.jpg
CATEGORIES:Malibu Garden Club
LOCATION:Point Dume Club House\, 29500 Heathercliff Drive\, Malibu\, Califo
 rnia\, 90265\, United States
X-APPLE-STRUCTURED-LOCATION;VALUE=URI;X-ADDRESS=29500 Heathercliff Drive\, 
 Malibu\, California\, 90265\, United States;X-APPLE-RADIUS=100;X-TITLE=Poi
 nt Dume Club House:geo:0,0
END:VEVENT
BEGIN:VTIMEZONE
TZID:America/Los_Angeles
X-LIC-LOCATION:America/Los_Angeles
BEGIN:STANDARD
DTSTART:20131103T010000
TZOFFSETFROM:-0700
TZOFFSETTO:-0800
TZNAME:PST
END:STANDARD
END:VTIMEZONE
END:VCALENDAR