BEGIN:VCALENDAR
VERSION:2.0
PRODID:-//wp-events-plugin.com//7.2.3.1//EN
TZID:America/Los_Angeles
X-WR-TIMEZONE:America/Los_Angeles
BEGIN:VEVENT
UID:138@malibugardenclub.org
DTSTART;TZID=America/Los_Angeles:20190810T133000
DTEND;TZID=America/Los_Angeles:20190810T160000
DTSTAMP:20190620T171106Z
URL:https://www.malibugardenclub.org/events/right-plant-right-place/
SUMMARY:Right Plant\, Right Place
DESCRIPTION:Knowing native habitats can help you choose the right plants fo
 r your place. This course discusses local plant communities and their cond
 itions\, as well as how to assess the conditions of your garden site\, inc
 luding climate\, soil\, sunlight and space. A valuable class for beginners
  and the prerequisite for our Three-Part Native Garden Design Course. 
ATTACH;FMTTYPE=image/jpeg:https://www.malibugardenclub.org/wp-content/uplo
 ads/native-habitats.jpg
CATEGORIES:Local Events
LOCATION:Theodore Payne Foundation - Classroom\, 10459 Tuxford St \, Sun Va
 lley\, CA\, 91352\, United States
X-APPLE-STRUCTURED-LOCATION;VALUE=URI;X-ADDRESS=10459 Tuxford St \, Sun Val
 ley\, CA\, 91352\, United States;X-APPLE-RADIUS=100;X-TITLE=Theodore Payne
  Foundation - Classroom:geo:0,0
END:VEVENT
BEGIN:VTIMEZONE
TZID:America/Los_Angeles
X-LIC-LOCATION:America/Los_Angeles
BEGIN:DAYLIGHT
DTSTART:20190310T030000
TZOFFSETFROM:-0800
TZOFFSETTO:-0700
TZNAME:PDT
END:DAYLIGHT
END:VTIMEZONE
END:VCALENDAR