BEGIN:VCALENDAR
VERSION:2.0
PRODID:-//wp-events-plugin.com//7.2.3.1//EN
TZID:America/Los_Angeles
X-WR-TIMEZONE:America/Los_Angeles
BEGIN:VEVENT
UID:70@malibugardenclub.org
DTSTART;TZID=America/Los_Angeles:20131002T190000
DTEND;TZID=America/Los_Angeles:20131002T210000
DTSTAMP:20190623T172137Z
URL:https://www.malibugardenclub.org/events/rhododendrons/
SUMMARY:Rhododendrons
DESCRIPTION:James E. Jaeger\, Horticultural Consultant and Landscape Instru
 ctor at Santa Monica Emeritus College discussed the Vireya or Malesian Rho
 dodendrons and elaborated on what they are\, where they come from\, and th
 e cultural requirements of growing Rhododendrons in our coastal region.
ATTACH;FMTTYPE=image/jpeg:https://www.malibugardenclub.org/wp-content/uplo
 ads/Rhododendrons.jpg
CATEGORIES:Malibu Garden Club
LOCATION:Point Dume Club House\, 29500 Heathercliff Drive\, Malibu\, Califo
 rnia\, 90265\, United States
X-APPLE-STRUCTURED-LOCATION;VALUE=URI;X-ADDRESS=29500 Heathercliff Drive\, 
 Malibu\, California\, 90265\, United States;X-APPLE-RADIUS=100;X-TITLE=Poi
 nt Dume Club House:geo:0,0
END:VEVENT
BEGIN:VTIMEZONE
TZID:America/Los_Angeles
X-LIC-LOCATION:America/Los_Angeles
BEGIN:DAYLIGHT
DTSTART:20130310T030000
TZOFFSETFROM:-0800
TZOFFSETTO:-0700
TZNAME:PDT
END:DAYLIGHT
END:VTIMEZONE
END:VCALENDAR