BEGIN:VCALENDAR
VERSION:2.0
PRODID:-//wp-events-plugin.com//7.2.3.1//EN
TZID:America/Los_Angeles
X-WR-TIMEZONE:America/Los_Angeles
BEGIN:VEVENT
UID:200@malibugardenclub.org
DTSTART;TZID=America/Los_Angeles:20200227T130000
DTEND;TZID=America/Los_Angeles:20200227T160000
DTSTAMP:20200205T231150Z
URL:https://www.malibugardenclub.org/events/post-fire-food-safety/
SUMMARY:Post-Fire Food Safety
DESCRIPTION:You are invited to a workshop on post-fire food safety on Thurs
 day\, February 27\, 2020 from 1 p.m. to 4 p.m. Please join them for an aft
 ernoon workshop to learn how wildfire impacts the health and safety of loc
 ally grown produce and backyard chicken eggs from home\, school\, communit
 y gardens\, and local farms.
ATTACH;FMTTYPE=image/jpeg:https://www.malibugardenclub.org/wp-content/uplo
 ads/fresh-produce.jpg
CATEGORIES:Local Events
LOCATION:Crowne Plaza Hotel\, 450 E Harbor Blvd\, Ventura\, CA\, 93001\, Un
 ited States
X-APPLE-STRUCTURED-LOCATION;VALUE=URI;X-ADDRESS=450 E Harbor Blvd\, Ventura
 \, CA\, 93001\, United States;X-APPLE-RADIUS=100;X-TITLE=Crowne Plaza Hote
 l:geo:0,0
END:VEVENT
BEGIN:VTIMEZONE
TZID:America/Los_Angeles
X-LIC-LOCATION:America/Los_Angeles
BEGIN:STANDARD
DTSTART:20191103T010000
TZOFFSETFROM:-0700
TZOFFSETTO:-0800
TZNAME:PST
END:STANDARD
END:VTIMEZONE
END:VCALENDAR