BEGIN:VCALENDAR
VERSION:2.0
PRODID:-//wp-events-plugin.com//7.2.3.1//EN
TZID:America/Los_Angeles
X-WR-TIMEZONE:America/Los_Angeles
BEGIN:VEVENT
UID:193@malibugardenclub.org
DTSTART;TZID=America/Los_Angeles:20200118T090000
DTEND;TZID=America/Los_Angeles:20200118T100000
DTSTAMP:20191215T181302Z
URL:https://www.malibugardenclub.org/events/pollinators-people-and-plants/
SUMMARY:Pollinators\, People\, and Plants
DESCRIPTION:Nature educator Kristy Brauch Clougherty of the UC Master Garde
 ner program discusses the symbiotic relationship between plants and insect
 s and some of the common things people do that can disrupt the cycle. The 
 presentation explores native and non-native plants\, moths\, butterflies\,
  and more\, and highlights ways that individuals can participate in "citiz
 en science" to assist with pollinator research.
ATTACH;FMTTYPE=image/jpeg:https://www.malibugardenclub.org/wp-content/uplo
 ads/lady-bug.jpg
CATEGORIES:Local Events
LOCATION:The Huntington Botanical Gardens\, 1151 Oxford Road\, San Marino\,
  CA\, 91108 \, United States
X-APPLE-STRUCTURED-LOCATION;VALUE=URI;X-ADDRESS=1151 Oxford Road\, San Mari
 no\, CA\, 91108 \, United States;X-APPLE-RADIUS=100;X-TITLE=The Huntington
  Botanical Gardens:geo:0,0
END:VEVENT
BEGIN:VTIMEZONE
TZID:America/Los_Angeles
X-LIC-LOCATION:America/Los_Angeles
BEGIN:STANDARD
DTSTART:20191103T010000
TZOFFSETFROM:-0700
TZOFFSETTO:-0800
TZNAME:PST
END:STANDARD
END:VTIMEZONE
END:VCALENDAR