BEGIN:VCALENDAR
VERSION:2.0
PRODID:-//wp-events-plugin.com//7.2.3.1//EN
TZID:America/Los_Angeles
X-WR-TIMEZONE:America/Los_Angeles
BEGIN:VEVENT
UID:68@malibugardenclub.org
DTSTART;TZID=America/Los_Angeles:20131204T190000
DTEND;TZID=America/Los_Angeles:20131204T210000
DTSTAMP:20190623T172010Z
URL:https://www.malibugardenclub.org/events/poinsettias-candles/
SUMMARY:Poinsettias & Candles
DESCRIPTION:Karl Bauer presented on the care of Poinsettias and brought sev
 eral varieties for sale at grower's wholesale prices.  Bobbi Cattanese\, f
 ounder of the Malibu company Scents of Purpose also spoke on how they make
  and sell their own artisanal aromatherapy candles.
ATTACH;FMTTYPE=image/jpeg:https://www.malibugardenclub.org/wp-content/uplo
 ads/poinsettias.jpg
CATEGORIES:Malibu Garden Club
LOCATION:Point Dume Club House\, 29500 Heathercliff Drive\, Malibu\, Califo
 rnia\, 90265\, United States
X-APPLE-STRUCTURED-LOCATION;VALUE=URI;X-ADDRESS=29500 Heathercliff Drive\, 
 Malibu\, California\, 90265\, United States;X-APPLE-RADIUS=100;X-TITLE=Poi
 nt Dume Club House:geo:0,0
END:VEVENT
BEGIN:VTIMEZONE
TZID:America/Los_Angeles
X-LIC-LOCATION:America/Los_Angeles
BEGIN:STANDARD
DTSTART:20131103T010000
TZOFFSETFROM:-0700
TZOFFSETTO:-0800
TZNAME:PST
END:STANDARD
END:VTIMEZONE
END:VCALENDAR