BEGIN:VCALENDAR
VERSION:2.0
PRODID:-//wp-events-plugin.com//7.2.3.1//EN
TZID:America/Los_Angeles
X-WR-TIMEZONE:America/Los_Angeles
BEGIN:VEVENT
UID:144@malibugardenclub.org
DTSTART;TZID=America/Los_Angeles:20190822T163000
DTEND;TZID=America/Los_Angeles:20190822T173000
DTSTAMP:20190620T183813Z
URL:https://www.malibugardenclub.org/events/plant-science-for-gardeners-an
 d-citizen-scientists-2/
SUMMARY:Plant Science for Gardeners and Citizen Scientists
DESCRIPTION:Explore the wonders of the plant world through discussion and h
 ands-on lab time in this monthly series for "citizen scientists" led by Ji
 m Folsom\, the Telleen/Jorgensen Director of the Botanical Gardens.
ATTACH;FMTTYPE=image/jpeg:https://www.malibugardenclub.org/wp-content/uplo
 ads/plant-science.jpg
CATEGORIES:Local Events
LOCATION:The Huntington Botanical Gardens\, 1151 Oxford Road\, San Marino\,
  CA\, 91108 \, United States
X-APPLE-STRUCTURED-LOCATION;VALUE=URI;X-ADDRESS=1151 Oxford Road\, San Mari
 no\, CA\, 91108 \, United States;X-APPLE-RADIUS=100;X-TITLE=The Huntington
  Botanical Gardens:geo:0,0
END:VEVENT
BEGIN:VTIMEZONE
TZID:America/Los_Angeles
X-LIC-LOCATION:America/Los_Angeles
BEGIN:DAYLIGHT
DTSTART:20190310T030000
TZOFFSETFROM:-0800
TZOFFSETTO:-0700
TZNAME:PDT
END:DAYLIGHT
END:VTIMEZONE
END:VCALENDAR