BEGIN:VCALENDAR
VERSION:2.0
PRODID:-//wp-events-plugin.com//7.2.3.1//EN
TZID:America/Los_Angeles
X-WR-TIMEZONE:America/Los_Angeles
BEGIN:VEVENT
UID:31@malibugardenclub.org
DTSTART;TZID=America/Los_Angeles:20170301T190000
DTEND;TZID=America/Los_Angeles:20170301T210000
DTSTAMP:20190623T172744Z
URL:https://www.malibugardenclub.org/events/permaculture-and-soil-preparat
 ion/
SUMMARY:Permaculture and Soil Preparation
DESCRIPTION:For our March event\, Don Smith presented Permaculture and Soil
  Preparation. Attendees learned how building healthy soil can solve so man
 y of humanity’s problems\, and why large scale landscape restoration is 
 the task of our lifetime.
ATTACH;FMTTYPE=image/jpeg:https://www.malibugardenclub.org/wp-content/uplo
 ads/soil-prep.jpg
CATEGORIES:Malibu Garden Club
LOCATION:Point Dume Club House\, 29500 Heathercliff Drive\, Malibu\, Califo
 rnia\, 90265\, United States
X-APPLE-STRUCTURED-LOCATION;VALUE=URI;X-ADDRESS=29500 Heathercliff Drive\, 
 Malibu\, California\, 90265\, United States;X-APPLE-RADIUS=100;X-TITLE=Poi
 nt Dume Club House:geo:0,0
END:VEVENT
BEGIN:VTIMEZONE
TZID:America/Los_Angeles
X-LIC-LOCATION:America/Los_Angeles
BEGIN:STANDARD
DTSTART:20161106T010000
TZOFFSETFROM:-0700
TZOFFSETTO:-0800
TZNAME:PST
END:STANDARD
END:VTIMEZONE
END:VCALENDAR