BEGIN:VCALENDAR
VERSION:2.0
PRODID:-//wp-events-plugin.com//7.2.3.1//EN
TZID:America/Los_Angeles
X-WR-TIMEZONE:America/Los_Angeles
BEGIN:VEVENT
UID:22@malibugardenclub.org
DTSTART;TZID=America/Los_Angeles:20180905T093000
DTEND;TZID=America/Los_Angeles:20180905T120000
DTSTAMP:20190623T175827Z
URL:https://www.malibugardenclub.org/events/pelargoniums-geraniums-for-cal
 ifornia-landscapes/
SUMMARY:Pelargoniums (Geraniums) for California Landscapes
DESCRIPTION:For our September event when John Schoustra presents Out of Afr
 ica: Pelargoniums (Geraniums) for California Landscapes. Nurseryman John S
 choustra introduced a whole palette of pelargoniums (Geraniums)\, from gro
 und covers to shrubs that provide year round color and fragrance. A plant 
 sale followed the presentation.
ATTACH;FMTTYPE=image/jpeg:https://www.malibugardenclub.org/wp-content/uplo
 ads/geraniums.jpg
CATEGORIES:Malibu Garden Club
LOCATION:Point Dume Club House\, 29500 Heathercliff Drive\, Malibu\, Califo
 rnia\, 90265\, United States
X-APPLE-STRUCTURED-LOCATION;VALUE=URI;X-ADDRESS=29500 Heathercliff Drive\, 
 Malibu\, California\, 90265\, United States;X-APPLE-RADIUS=100;X-TITLE=Poi
 nt Dume Club House:geo:0,0
END:VEVENT
BEGIN:VTIMEZONE
TZID:America/Los_Angeles
X-LIC-LOCATION:America/Los_Angeles
BEGIN:DAYLIGHT
DTSTART:20180311T030000
TZOFFSETFROM:-0800
TZOFFSETTO:-0700
TZNAME:PDT
END:DAYLIGHT
END:VTIMEZONE
END:VCALENDAR