BEGIN:VCALENDAR
VERSION:2.0
PRODID:-//wp-events-plugin.com//7.2.3.1//EN
TZID:America/Los_Angeles
X-WR-TIMEZONE:America/Los_Angeles
BEGIN:VEVENT
UID:13@malibugardenclub.org
DTSTART;TZID=America/Los_Angeles:20191027T100000
DTEND;TZID=America/Los_Angeles:20191027T150000
DTSTAMP:20190609T131315Z
URL:https://www.malibugardenclub.org/events/palomar-cactus-and-succulent-s
 how-and-sale-2/
SUMMARY:Palomar Cactus and Succulent Show and Sale
DESCRIPTION:See spectacular succulent specimens from around the world – a
 nd add them to your collection – at the annual Palomar Cactus and Succul
 ent Society Show & Sale at the Garden.
ATTACH;FMTTYPE=image/jpeg:https://www.malibugardenclub.org/wp-content/uplo
 ads/SDBG-Catuses.jpg
CATEGORIES:Local Events
LOCATION:San Diego Botanic Garden\, 230 Quail Gardens Dr.\, Encinitas\, Cal
 ifornia\, 92024\, United States
X-APPLE-STRUCTURED-LOCATION;VALUE=URI;X-ADDRESS=230 Quail Gardens Dr.\, Enc
 initas\, California\, 92024\, United States;X-APPLE-RADIUS=100;X-TITLE=San
  Diego Botanic Garden:geo:0,0
END:VEVENT
BEGIN:VTIMEZONE
TZID:America/Los_Angeles
X-LIC-LOCATION:America/Los_Angeles
BEGIN:DAYLIGHT
DTSTART:20190310T030000
TZOFFSETFROM:-0800
TZOFFSETTO:-0700
TZNAME:PDT
END:DAYLIGHT
END:VTIMEZONE
END:VCALENDAR