BEGIN:VCALENDAR
VERSION:2.0
PRODID:-//wp-events-plugin.com//7.2.3.1//EN
TZID:America/Los_Angeles
X-WR-TIMEZONE:America/Los_Angeles
BEGIN:VEVENT
UID:10@malibugardenclub.org
DTSTART;TZID=America/Los_Angeles:20190914T090000
DTEND;TZID=America/Los_Angeles:20190915T160000
DTSTAMP:20190609T131558Z
URL:https://www.malibugardenclub.org/events/orchid-show-sale/
SUMMARY:Orchid Show & Sale
DESCRIPTION:Hosted by the South Bay Orchid Society. Experienced orchid vend
 ors and the Orchid Society members will be on hand to sell and showcase th
 eir outstanding plants with artistic exhibits and displays. ‘Orchids-R-E
 asy’ demonstrations/classes will be held throughout the duration of the 
 show. An hourly raffle will be held on each day.
ATTACH;FMTTYPE=image/jpeg:https://www.malibugardenclub.org/wp-content/uplo
 ads/orchids.jpg
CATEGORIES:Local Events
LOCATION:South Coast Botanic Garden\, 26300 Crenshaw Boulevard\, Palos Verd
 es Peninsula\, California\, 90274\, United States
X-APPLE-STRUCTURED-LOCATION;VALUE=URI;X-ADDRESS=26300 Crenshaw Boulevard\, 
 Palos Verdes Peninsula\, California\, 90274\, United States;X-APPLE-RADIUS
 =100;X-TITLE=South Coast Botanic Garden:geo:0,0
END:VEVENT
BEGIN:VTIMEZONE
TZID:America/Los_Angeles
X-LIC-LOCATION:America/Los_Angeles
BEGIN:DAYLIGHT
DTSTART:20190310T030000
TZOFFSETFROM:-0800
TZOFFSETTO:-0700
TZNAME:PDT
END:DAYLIGHT
END:VTIMEZONE
END:VCALENDAR