BEGIN:VCALENDAR
VERSION:2.0
PRODID:-//wp-events-plugin.com//7.2.3.1//EN
TZID:America/Los_Angeles
X-WR-TIMEZONE:America/Los_Angeles
BEGIN:VEVENT
UID:162@malibugardenclub.org
DTSTART;TZID=America/Los_Angeles:20191002T093000
DTEND;TZID=America/Los_Angeles:20191002T120000
DTSTAMP:20191016T172130Z
URL:https://www.malibugardenclub.org/events/orchid-floral-design/
SUMMARY:Orchid Floral Design
DESCRIPTION:For our October event\, and first\, of the 2019-2020 season\, H
 etty Schurtleff will present Orchid Floral Design. She presented two outst
 anding floral arrangements at this year's Santa Barbara International Orch
 id Show. Hetty will create a number of orchid floral masterpieces\, of whi
 ch 3 will be raffled off.
ATTACH;FMTTYPE=image/jpeg:https://www.malibugardenclub.org/wp-content/uplo
 ads/orchid-Hetty-Schurteff.jpg
CATEGORIES:Malibu Garden Club
LOCATION:Point Dume Club House\, 29500 Heathercliff Drive\, Malibu\, Califo
 rnia\, 90265\, United States
X-APPLE-STRUCTURED-LOCATION;VALUE=URI;X-ADDRESS=29500 Heathercliff Drive\, 
 Malibu\, California\, 90265\, United States;X-APPLE-RADIUS=100;X-TITLE=Poi
 nt Dume Club House:geo:0,0
END:VEVENT
BEGIN:VTIMEZONE
TZID:America/Los_Angeles
X-LIC-LOCATION:America/Los_Angeles
BEGIN:DAYLIGHT
DTSTART:20190310T030000
TZOFFSETFROM:-0800
TZOFFSETTO:-0700
TZNAME:PDT
END:DAYLIGHT
END:VTIMEZONE
END:VCALENDAR