BEGIN:VCALENDAR
VERSION:2.0
PRODID:-//wp-events-plugin.com//7.2.3.1//EN
TZID:America/Los_Angeles
X-WR-TIMEZONE:America/Los_Angeles
BEGIN:VEVENT
UID:55@malibugardenclub.org
DTSTART;TZID=America/Los_Angeles:20150304T190000
DTEND;TZID=America/Los_Angeles:20150304T210000
DTSTAMP:20190623T171118Z
URL:https://www.malibugardenclub.org/events/one-gun-ranch-and-biodynamic-g
 ardening/
SUMMARY:One Gun Ranch and Biodynamic Gardening
DESCRIPTION:For our March event\, Alice Bamford from Malibu's One Gun Ranch
  discussed the ranch and Biodynamic Gardening. One Gun Ranch is ground zer
 o for local sustainable agriculture\, based on biodynamic principles that 
 produce healthy\, mouthwatering food.
ATTACH;FMTTYPE=image/jpeg:https://www.malibugardenclub.org/wp-content/uplo
 ads/One-Gun-Ranch.jpg
CATEGORIES:Malibu Garden Club
LOCATION:Point Dume Club House\, 29500 Heathercliff Drive\, Malibu\, Califo
 rnia\, 90265\, United States
X-APPLE-STRUCTURED-LOCATION;VALUE=URI;X-ADDRESS=29500 Heathercliff Drive\, 
 Malibu\, California\, 90265\, United States;X-APPLE-RADIUS=100;X-TITLE=Poi
 nt Dume Club House:geo:0,0
END:VEVENT
BEGIN:VTIMEZONE
TZID:America/Los_Angeles
X-LIC-LOCATION:America/Los_Angeles
BEGIN:STANDARD
DTSTART:20141102T010000
TZOFFSETFROM:-0700
TZOFFSETTO:-0800
TZNAME:PST
END:STANDARD
END:VTIMEZONE
END:VCALENDAR