BEGIN:VCALENDAR
VERSION:2.0
PRODID:-//wp-events-plugin.com//7.2.3.1//EN
TZID:America/Los_Angeles
X-WR-TIMEZONE:America/Los_Angeles
BEGIN:VEVENT
UID:105@malibugardenclub.org
DTSTART;TZID=America/Los_Angeles:20100901T190000
DTEND;TZID=America/Los_Angeles:20100901T210000
DTSTAMP:20190623T164432Z
URL:https://www.malibugardenclub.org/events/olive-trees-olive-oils/
SUMMARY:Olive Trees & Olive Oils
DESCRIPTION:For our September meeting\, we enjoyed a very special night of 
 learning all about olive trees and indulging in an olive oil tasting. Robe
 rt Jaye\, owner\, from the Malibu Olive Company\, educated us on the prope
 r way to taste olive oils.
ATTACH;FMTTYPE=image/jpeg:https://www.malibugardenclub.org/wp-content/uplo
 ads/olives.jpg
CATEGORIES:Malibu Garden Club
LOCATION:Point Dume Club House\, 29500 Heathercliff Drive\, Malibu\, Califo
 rnia\, 90265\, United States
X-APPLE-STRUCTURED-LOCATION;VALUE=URI;X-ADDRESS=29500 Heathercliff Drive\, 
 Malibu\, California\, 90265\, United States;X-APPLE-RADIUS=100;X-TITLE=Poi
 nt Dume Club House:geo:0,0
END:VEVENT
BEGIN:VTIMEZONE
TZID:America/Los_Angeles
X-LIC-LOCATION:America/Los_Angeles
BEGIN:DAYLIGHT
DTSTART:20100314T030000
TZOFFSETFROM:-0800
TZOFFSETTO:-0700
TZNAME:PDT
END:DAYLIGHT
END:VTIMEZONE
END:VCALENDAR