BEGIN:VCALENDAR
VERSION:2.0
PRODID:-//wp-events-plugin.com//7.2.3.1//EN
TZID:America/Los_Angeles
X-WR-TIMEZONE:America/Los_Angeles
BEGIN:VEVENT
UID:61@malibugardenclub.org
DTSTART;TZID=America/Los_Angeles:20140604T190000
DTEND;TZID=America/Los_Angeles:20140604T210000
DTSTAMP:20190623T171522Z
URL:https://www.malibugardenclub.org/events/old-fashion-ideas-in-a-high-te
 ch-world/
SUMMARY:Old Fashion Ideas in a High Tech World
DESCRIPTION:For our June event\, America's Natural Master Gardener\, Nick F
 ederoff hosted an open forum discussion on homemade concoctions\, elixirs 
 and remedies for edible and ornamental plants. He also fielded gardening q
 uestions from attendees and introduces fast-track concepts to ward off ins
 ects and disease. 
ATTACH;FMTTYPE=image/jpeg:https://www.malibugardenclub.org/wp-content/uplo
 ads/Nick-Federoff.jpg
CATEGORIES:Malibu Garden Club
LOCATION:Point Dume Club House\, 29500 Heathercliff Drive\, Malibu\, Califo
 rnia\, 90265\, United States
X-APPLE-STRUCTURED-LOCATION;VALUE=URI;X-ADDRESS=29500 Heathercliff Drive\, 
 Malibu\, California\, 90265\, United States;X-APPLE-RADIUS=100;X-TITLE=Poi
 nt Dume Club House:geo:0,0
END:VEVENT
BEGIN:VTIMEZONE
TZID:America/Los_Angeles
X-LIC-LOCATION:America/Los_Angeles
BEGIN:DAYLIGHT
DTSTART:20140309T030000
TZOFFSETFROM:-0800
TZOFFSETTO:-0700
TZNAME:PDT
END:DAYLIGHT
END:VTIMEZONE
END:VCALENDAR