BEGIN:VCALENDAR
VERSION:2.0
PRODID:-//wp-events-plugin.com//7.2.3.1//EN
TZID:America/Los_Angeles
X-WR-TIMEZONE:America/Los_Angeles
BEGIN:VEVENT
UID:184@malibugardenclub.org
DTSTART;TZID=America/Los_Angeles:20200101T123000
DTEND;TZID=America/Los_Angeles:20200101T163000
DTSTAMP:20191125T113452Z
URL:https://www.malibugardenclub.org/events/new-years-day-presidents-lunch
 eon-and-reception/
SUMMARY:New Years Day President's Luncheon and Reception
DESCRIPTION:Come and enjoy a New Years Day luncheon with your fellow Club m
 embers.  You can stroll around our succulent gardens and see spectacular v
 iews of Boney Ridge and the Channel Islands.
ATTACH;FMTTYPE=image/jpeg:https://www.malibugardenclub.org/wp-content/uplo
 ads/glen-gessford-home-cover.jpg
CATEGORIES:Malibu Garden Club
END:VEVENT
BEGIN:VTIMEZONE
TZID:America/Los_Angeles
X-LIC-LOCATION:America/Los_Angeles
BEGIN:STANDARD
DTSTART:20191103T010000
TZOFFSETFROM:-0700
TZOFFSETTO:-0800
TZNAME:PST
END:STANDARD
END:VTIMEZONE
END:VCALENDAR